BEGIN:VCALENDAR
VERSION:2.0
PRODID:-//Forum Juden-Christen - ECPv6.15.17.1//NONSGML v1.0//EN
CALSCALE:GREGORIAN
METHOD:PUBLISH
X-WR-CALNAME:Forum Juden-Christen
X-ORIGINAL-URL:https://www.forum-juden-christen.de
X-WR-CALDESC:Veranstaltungen für Forum Juden-Christen
REFRESH-INTERVAL;VALUE=DURATION:PT1H
X-Robots-Tag:noindex
X-PUBLISHED-TTL:PT1H
BEGIN:VTIMEZONE
TZID:Europe/Berlin
BEGIN:DAYLIGHT
TZOFFSETFROM:+0100
TZOFFSETTO:+0200
TZNAME:CEST
DTSTART:20240331T010000
END:DAYLIGHT
BEGIN:STANDARD
TZOFFSETFROM:+0200
TZOFFSETTO:+0100
TZNAME:CET
DTSTART:20241027T010000
END:STANDARD
BEGIN:DAYLIGHT
TZOFFSETFROM:+0100
TZOFFSETTO:+0200
TZNAME:CEST
DTSTART:20250330T010000
END:DAYLIGHT
BEGIN:STANDARD
TZOFFSETFROM:+0200
TZOFFSETTO:+0100
TZNAME:CET
DTSTART:20251026T010000
END:STANDARD
BEGIN:DAYLIGHT
TZOFFSETFROM:+0100
TZOFFSETTO:+0200
TZNAME:CEST
DTSTART:20260329T010000
END:DAYLIGHT
BEGIN:STANDARD
TZOFFSETFROM:+0200
TZOFFSETTO:+0100
TZNAME:CET
DTSTART:20261025T010000
END:STANDARD
END:VTIMEZONE
BEGIN:VEVENT
DTSTART;VALUE=DATE:20250911
DTEND;VALUE=DATE:20250920
DTSTAMP:20260423T005448
CREATED:20250707T122625Z
LAST-MODIFIED:20250807T083420Z
UID:101-1757548800-1758326399@www.forum-juden-christen.de
SUMMARY:„Man muss Gott mehr gehorchen als dem Menschen“
DESCRIPTION:Ausstellung über den Widerstands-Pfarrer Paul Schneider (1897-1939)\n\nDer „Prediger von B u c h e n w a l d“\, Pfarrer Paul Schneider\, hatte bereits 1933 das Hitler-Regime öffentlich als Gemeindepfarrer kritisiert. Er wurde mehrmals von der Gestapo verhaftet und 1937 in das Konzentrationslager Buchenwald eingeliefert. Dort lehnte er es 1938 beim Fahnenappell zu Hitlers Geburtstag ab\, seine Mütze abzunehmen. Daraufhin wurde er mit Stockschlägen bestraft und in einer Einzelzelle („Bunker“) inhaftiert\, in der er bis zu seinem Tod ununterbrochen verblieb. Eine Predigt aus dem Bunkerfenster an die zum Appell angetretenen Häftlinge führte 1939 schließlich zu seiner Ermordung durch\nden Lagerarzt.\n\n„Den Namen dürft ihr nicht vergessen\, Paul Schneider ist unser erster Märtyrer“ – so die Reaktion des evangelischen Theologen Dietrich Bonhoeffer.\n\nEröffnungsveranstaltung: 11. September 2025\, 18:00 Uhr\, Öffnungszeiten und Rahmenprogramm werden gesondert veröffentlicht.
URL:https://www.forum-juden-christen.de/event/man-muss-gott-mehr-gehorchen-als-dem-menschen/
LOCATION:Kreuzkirche\, Universitätsplatz 1\, Lingen\, Niedersachsen\, 49808\, Germany
ATTACH;FMTTYPE=image/jpeg:https://www.forum-juden-christen.de/wp-content/uploads/2025/07/tafel02.jpg
END:VEVENT
END:VCALENDAR