BEGIN:VCALENDAR
VERSION:2.0
PRODID:-//Forum Juden-Christen - ECPv6.15.17.1//NONSGML v1.0//EN
CALSCALE:GREGORIAN
METHOD:PUBLISH
X-WR-CALNAME:Forum Juden-Christen
X-ORIGINAL-URL:https://www.forum-juden-christen.de
X-WR-CALDESC:Veranstaltungen für Forum Juden-Christen
REFRESH-INTERVAL;VALUE=DURATION:PT1H
X-Robots-Tag:noindex
X-PUBLISHED-TTL:PT1H
BEGIN:VTIMEZONE
TZID:Europe/Berlin
BEGIN:DAYLIGHT
TZOFFSETFROM:+0100
TZOFFSETTO:+0200
TZNAME:CEST
DTSTART:20240331T010000
END:DAYLIGHT
BEGIN:STANDARD
TZOFFSETFROM:+0200
TZOFFSETTO:+0100
TZNAME:CET
DTSTART:20241027T010000
END:STANDARD
BEGIN:DAYLIGHT
TZOFFSETFROM:+0100
TZOFFSETTO:+0200
TZNAME:CEST
DTSTART:20250330T010000
END:DAYLIGHT
BEGIN:STANDARD
TZOFFSETFROM:+0200
TZOFFSETTO:+0100
TZNAME:CET
DTSTART:20251026T010000
END:STANDARD
BEGIN:DAYLIGHT
TZOFFSETFROM:+0100
TZOFFSETTO:+0200
TZNAME:CEST
DTSTART:20260329T010000
END:DAYLIGHT
BEGIN:STANDARD
TZOFFSETFROM:+0200
TZOFFSETTO:+0100
TZNAME:CET
DTSTART:20261025T010000
END:STANDARD
END:VTIMEZONE
BEGIN:VEVENT
DTSTART;TZID=Europe/Berlin:20250925T170000
DTEND;TZID=Europe/Berlin:20250925T190000
DTSTAMP:20260422T232354
CREATED:20250707T115647Z
LAST-MODIFIED:20250807T082426Z
UID:89-1758819600-1758826800@www.forum-juden-christen.de
SUMMARY:Führung über den jüdischen Friedhof
DESCRIPTION:Führung um 17:00 Uhr über den jüdischen Friedhof in Lingen (Ems) an der Weidestraße.\nMännliche Besucher werden gebeten\, für den Friedhofsbesuch eine Kopfbedeckung mitzubringen.\nKeine Anmeldung erforderlich\, freier Eintritt
URL:https://www.forum-juden-christen.de/event/fuehrung-ueber-den-juedischen-friedhof/
LOCATION:Jüdischer Friedhof\, Weidestraße 31\, Lingen\, Niedersachsen\, Germany
END:VEVENT
END:VCALENDAR