BEGIN:VCALENDAR
VERSION:2.0
PRODID:-//Forum Juden-Christen - ECPv6.15.17.1//NONSGML v1.0//EN
CALSCALE:GREGORIAN
METHOD:PUBLISH
X-ORIGINAL-URL:https://www.forum-juden-christen.de
X-WR-CALDESC:Veranstaltungen für Forum Juden-Christen
REFRESH-INTERVAL;VALUE=DURATION:PT1H
X-Robots-Tag:noindex
X-PUBLISHED-TTL:PT1H
BEGIN:VTIMEZONE
TZID:Europe/Berlin
BEGIN:DAYLIGHT
TZOFFSETFROM:+0100
TZOFFSETTO:+0200
TZNAME:CEST
DTSTART:20250330T010000
END:DAYLIGHT
BEGIN:STANDARD
TZOFFSETFROM:+0200
TZOFFSETTO:+0100
TZNAME:CET
DTSTART:20251026T010000
END:STANDARD
BEGIN:DAYLIGHT
TZOFFSETFROM:+0100
TZOFFSETTO:+0200
TZNAME:CEST
DTSTART:20260329T010000
END:DAYLIGHT
BEGIN:STANDARD
TZOFFSETFROM:+0200
TZOFFSETTO:+0100
TZNAME:CET
DTSTART:20261025T010000
END:STANDARD
BEGIN:DAYLIGHT
TZOFFSETFROM:+0100
TZOFFSETTO:+0200
TZNAME:CEST
DTSTART:20270328T010000
END:DAYLIGHT
BEGIN:STANDARD
TZOFFSETFROM:+0200
TZOFFSETTO:+0100
TZNAME:CET
DTSTART:20271031T010000
END:STANDARD
END:VTIMEZONE
BEGIN:VEVENT
DTSTART;TZID=Europe/Berlin:20260121T193000
DTEND;TZID=Europe/Berlin:20260121T220000
DTSTAMP:20260422T170254
CREATED:20250707T115254Z
LAST-MODIFIED:20250807T082958Z
UID:83-1769023800-1769032800@www.forum-juden-christen.de
SUMMARY:„Umgang mit der NS-Vergangenheit in Lingen nach 1945“
DESCRIPTION:Lehrhausabend mit Prof. Dr. Dietmar von Reeken\n\nProf. von Reeken beleuchtet in seinem Vortrag\, wie die Lingener Gesellschaft nach dem Ende der nationalsozialistischen Diktatur mit deren Erbe umging. Im Zentrum steht die unmittelbare Nachkriegszeit:\ndie Herausforderungen durch die soziale und ökonomische Krise\, die politischen Umbrüche unter alliierter Besatzung sowie der allmähliche Übergang von der Diktatur zur Demokratie.\n\nDabei wirft der Vortrag einen kritischen Blick auf die Art und Weise\, wie Erinnerung und Verantwortung in der frühen Nachkriegszeit in Lingen (und vergleichbar auch anderswo) verhandelt wurden. Zwar zwang die Entnazifizierung immer wieder zur Auseinandersetzung mit der Vergangenheit – doch häufig geschah dies vor allem im Modus der Rechtfertigung und Abwehr. Die Mitverantwortung für das geschehene Unrecht und das Leid der Opfer blieben meist ausgeblendet.\n\nMit seinem Vortrag liefert Prof. von Reeken nicht nur eine fundierte historische Analyse\, sondern regt auch zur Reflexion über den langen Weg der Aufarbeitung an.
URL:https://www.forum-juden-christen.de/event/umgang-mit-der-ns-vergangenheit-in-lingen-nach-1945/
LOCATION:Emslandmuseum\, Vortragssaal\, Burgstr. 28b\, Lingen\, Niedersachsen\, 49808\, Germany
ATTACH;FMTTYPE=image/jpeg:https://www.forum-juden-christen.de/wp-content/uploads/2025/07/csm_Fk_IV_IfG_Prof._Dr._Dietmar_von_Reeken_Interview_H._Kulbarsch_16-01-24_08_9581a49d48.jpg
END:VEVENT
END:VCALENDAR