BEGIN:VCALENDAR
VERSION:2.0
PRODID:-//Forum Juden-Christen - ECPv6.15.17.1//NONSGML v1.0//EN
CALSCALE:GREGORIAN
METHOD:PUBLISH
X-ORIGINAL-URL:https://www.forum-juden-christen.de
X-WR-CALDESC:Veranstaltungen für Forum Juden-Christen
REFRESH-INTERVAL;VALUE=DURATION:PT1H
X-Robots-Tag:noindex
X-PUBLISHED-TTL:PT1H
BEGIN:VTIMEZONE
TZID:Europe/Berlin
BEGIN:DAYLIGHT
TZOFFSETFROM:+0100
TZOFFSETTO:+0200
TZNAME:CEST
DTSTART:20250330T010000
END:DAYLIGHT
BEGIN:STANDARD
TZOFFSETFROM:+0200
TZOFFSETTO:+0100
TZNAME:CET
DTSTART:20251026T010000
END:STANDARD
BEGIN:DAYLIGHT
TZOFFSETFROM:+0100
TZOFFSETTO:+0200
TZNAME:CEST
DTSTART:20260329T010000
END:DAYLIGHT
BEGIN:STANDARD
TZOFFSETFROM:+0200
TZOFFSETTO:+0100
TZNAME:CET
DTSTART:20261025T010000
END:STANDARD
BEGIN:DAYLIGHT
TZOFFSETFROM:+0100
TZOFFSETTO:+0200
TZNAME:CEST
DTSTART:20270328T010000
END:DAYLIGHT
BEGIN:STANDARD
TZOFFSETFROM:+0200
TZOFFSETTO:+0100
TZNAME:CET
DTSTART:20271031T010000
END:STANDARD
END:VTIMEZONE
BEGIN:VEVENT
DTSTART;TZID=Europe/Berlin:20260415T180000
DTEND;TZID=Europe/Berlin:20260415T200000
DTSTAMP:20260422T122049
CREATED:20250707T115610Z
LAST-MODIFIED:20260408T151452Z
UID:87-1776276000-1776283200@www.forum-juden-christen.de
SUMMARY:Asking the Pope for Help
DESCRIPTION:Lehrhausabend mit Prof. Dr. Dr. h.c. Hubert Wolf \nRund 15.000 jüdische Menschen aus ganz Europa baten während des NS-Regimes Papst Pius XII. und den Vatikan um Hilfe. Die Bittschreiben stammen von Frauen und Männern\, von Kindern und Jugendlichen\, ihre Verfasser gehören den unterschiedlichsten jüdischen Denominationen\, sozialen Schichten und Generationen an. Sie schrieben auf Deutsch und Italienisch\, auf Französisch und Rumänisch\, auf Jiddisch und Ungarisch. Jeder einzelne Brief erzählt aus der Ich-Perspektive die Geschichte eines einzigartigen Menschen\, emotional nahegehend. Diese Briefe waren bisher unbekannt. Sie wurden in den Akten aus dem Pontifikat Pius’ XII. (1939-1958) in den vatikanischen Archiven („Geheimarchiven“) entdeckt\, die erst seit dem 2. März 2020 der Forschung zugänglich sind. \nProf. Dr. h.c. Hubert Wolf\, Direktor des Seminars für Mittlere und Neuere Kirchengeschichte an der Katholisch-Theologischen Fakultät der Universität Münster ist Leiter des Fünfjahresprojektes „Asking the Pope for help. Jüdische Opfer des NS-Regimes in den Quellen des Vatikans“. Zu diesem Projekt wird er vortragen.
URL:https://www.forum-juden-christen.de/event/asking-the-pope-for-help/
LOCATION:Ludwig-Windthorst-Haus\, Gerhard-Kues-Str. 16\, Lingen\, Niedersachsen\, 49808\, Germany
ATTACH;FMTTYPE=image/jpeg:https://www.forum-juden-christen.de/wp-content/uploads/2025/07/wolf_von_catrin_moritz-scaled.jpeg
END:VEVENT
END:VCALENDAR