BEGIN:VCALENDAR
VERSION:2.0
PRODID:-//Forum Juden-Christen - ECPv6.15.17.1//NONSGML v1.0//EN
CALSCALE:GREGORIAN
METHOD:PUBLISH
X-ORIGINAL-URL:https://www.forum-juden-christen.de
X-WR-CALDESC:Veranstaltungen für Forum Juden-Christen
REFRESH-INTERVAL;VALUE=DURATION:PT1H
X-Robots-Tag:noindex
X-PUBLISHED-TTL:PT1H
BEGIN:VTIMEZONE
TZID:Europe/Berlin
BEGIN:DAYLIGHT
TZOFFSETFROM:+0100
TZOFFSETTO:+0200
TZNAME:CEST
DTSTART:20240331T010000
END:DAYLIGHT
BEGIN:STANDARD
TZOFFSETFROM:+0200
TZOFFSETTO:+0100
TZNAME:CET
DTSTART:20241027T010000
END:STANDARD
BEGIN:DAYLIGHT
TZOFFSETFROM:+0100
TZOFFSETTO:+0200
TZNAME:CEST
DTSTART:20250330T010000
END:DAYLIGHT
BEGIN:STANDARD
TZOFFSETFROM:+0200
TZOFFSETTO:+0100
TZNAME:CET
DTSTART:20251026T010000
END:STANDARD
BEGIN:DAYLIGHT
TZOFFSETFROM:+0100
TZOFFSETTO:+0200
TZNAME:CEST
DTSTART:20260329T010000
END:DAYLIGHT
BEGIN:STANDARD
TZOFFSETFROM:+0200
TZOFFSETTO:+0100
TZNAME:CET
DTSTART:20261025T010000
END:STANDARD
BEGIN:DAYLIGHT
TZOFFSETFROM:+0100
TZOFFSETTO:+0200
TZNAME:CEST
DTSTART:20270328T010000
END:DAYLIGHT
BEGIN:STANDARD
TZOFFSETFROM:+0200
TZOFFSETTO:+0100
TZNAME:CET
DTSTART:20271031T010000
END:STANDARD
END:VTIMEZONE
BEGIN:VEVENT
DTSTART;TZID=Europe/Berlin:20260415T180000
DTEND;TZID=Europe/Berlin:20260415T200000
DTSTAMP:20260422T103016
CREATED:20250707T115610Z
LAST-MODIFIED:20260408T151452Z
UID:87-1776276000-1776283200@www.forum-juden-christen.de
SUMMARY:Asking the Pope for Help
DESCRIPTION:Lehrhausabend mit Prof. Dr. Dr. h.c. Hubert Wolf \nRund 15.000 jüdische Menschen aus ganz Europa baten während des NS-Regimes Papst Pius XII. und den Vatikan um Hilfe. Die Bittschreiben stammen von Frauen und Männern\, von Kindern und Jugendlichen\, ihre Verfasser gehören den unterschiedlichsten jüdischen Denominationen\, sozialen Schichten und Generationen an. Sie schrieben auf Deutsch und Italienisch\, auf Französisch und Rumänisch\, auf Jiddisch und Ungarisch. Jeder einzelne Brief erzählt aus der Ich-Perspektive die Geschichte eines einzigartigen Menschen\, emotional nahegehend. Diese Briefe waren bisher unbekannt. Sie wurden in den Akten aus dem Pontifikat Pius’ XII. (1939-1958) in den vatikanischen Archiven („Geheimarchiven“) entdeckt\, die erst seit dem 2. März 2020 der Forschung zugänglich sind. \nProf. Dr. h.c. Hubert Wolf\, Direktor des Seminars für Mittlere und Neuere Kirchengeschichte an der Katholisch-Theologischen Fakultät der Universität Münster ist Leiter des Fünfjahresprojektes „Asking the Pope for help. Jüdische Opfer des NS-Regimes in den Quellen des Vatikans“. Zu diesem Projekt wird er vortragen.
URL:https://www.forum-juden-christen.de/event/asking-the-pope-for-help/
LOCATION:Ludwig-Windthorst-Haus\, Gerhard-Kues-Str. 16\, Lingen\, Niedersachsen\, 49808\, Germany
ATTACH;FMTTYPE=image/jpeg:https://www.forum-juden-christen.de/wp-content/uploads/2025/07/wolf_von_catrin_moritz-scaled.jpeg
END:VEVENT
BEGIN:VEVENT
DTSTART;TZID=Europe/Berlin:20260329T150000
DTEND;TZID=Europe/Berlin:20260329T170000
DTSTAMP:20260422T103016
CREATED:20250707T123121Z
LAST-MODIFIED:20250913T053108Z
UID:117-1774796400-1774803600@www.forum-juden-christen.de
SUMMARY:Tag der offenen Türen und Tore
DESCRIPTION:Lern- und Gedenkort Jüdische Schule\n\nSeit dem Frühjahr 2024 hat das Forum die alte Tradition der Öffnung des Lern- und Gedenkortes Jüdische Schule in Lingen\, Jakob-Wolff-Straße\, mit großem Zuspruch von BesucherInnen wieder aufgenommen.
URL:https://www.forum-juden-christen.de/event/tag-der-offenen-tueren-und-tore-8/
LOCATION:Vortragssaal\, Emslandmuseum\, Burgstraße 28B\, Lingen (Ems)\, Niedersachsen\, 49808\, Germany
ATTACH;FMTTYPE=image/jpeg:https://www.forum-juden-christen.de/wp-content/uploads/2025/07/Juedische-Schule.jpg
END:VEVENT
BEGIN:VEVENT
DTSTART;TZID=Europe/Berlin:20260325T193000
DTEND;TZID=Europe/Berlin:20260325T220000
DTSTAMP:20260422T103016
CREATED:20250707T115434Z
LAST-MODIFIED:20250913T052906Z
UID:85-1774467000-1774476000@www.forum-juden-christen.de
SUMMARY:„Hate Speech begegnen“ oder „Hass im Netz“
DESCRIPTION:Lehrhausabend mit Hans-Peter Dürhager \nWarum sind Hate Speech und menschenfeindliche Hand-lungen im Netz ein Problem? Und für wen? Wie kann ich Gegenrede einbringen und in welchen Situationen lohnt sich das überhaupt? \nDie Amadeu Antonio Stiftung beschäftigt sich seit vielen Jahren mit Hate Speech – und insbesondere mit Strategien\, mit denen sich Hass und Menschenverachtung effektiv kontern lassen. Dabei haben Hassrede und die Mobilisierung von Feindschaft gegen Gruppen schon seit 2014 neue Dimensionen erreicht. Eine Folge ist\, dass sich demokratische Akteur*innen und Angehörige angefeindeter Gruppen immer öfter aus Diskussionen zurückziehen\, um nicht länger Aggressivität und Gewaltandrohungen im Netz ausgesetzt zu sein. \nIm Rahmen eines Vortrags von Hans-Peter Dürhager\, Medienpädagoge und politischer Bildner\, geht es darum\, was Hassrede/Hate Speech ist und man diese Form erkennt. Weiterhin soll es darum gehen\, wie unterschiedlich Diskriminierung im Netz aussehen kann und was wir alle gegen Hassrede tun können und geeignete Gegenstrategien sind.
URL:https://www.forum-juden-christen.de/event/hate-speech-begegnen-oder-hass-im-netz/
LOCATION:Vortragssaal\, Emslandmuseum\, Burgstraße 28B\, Lingen (Ems)\, Niedersachsen\, 49808\, Germany
ATTACH;FMTTYPE=image/jpeg:https://www.forum-juden-christen.de/wp-content/uploads/2025/07/HPDuerhager.jpeg
END:VEVENT
BEGIN:VEVENT
DTSTART;TZID=Europe/Berlin:20260222T150000
DTEND;TZID=Europe/Berlin:20260222T170000
DTSTAMP:20260422T103016
CREATED:20250707T123058Z
LAST-MODIFIED:20250913T053115Z
UID:115-1771772400-1771779600@www.forum-juden-christen.de
SUMMARY:Tag der offenen Türen und Tore
DESCRIPTION:Lern- und Gedenkort Jüdische Schule\n\nSeit dem Frühjahr 2024 hat das Forum die alte Tradition der Öffnung des Lern- und Gedenkortes Jüdische Schule in Lingen\, Jakob-Wolff-Straße\, mit großem Zuspruch von BesucherInnen wieder aufgenommen.
URL:https://www.forum-juden-christen.de/event/tag-der-offenen-tueren-und-tore-7/
LOCATION:Vortragssaal\, Emslandmuseum\, Burgstraße 28B\, Lingen (Ems)\, Niedersachsen\, 49808\, Germany
ATTACH;FMTTYPE=image/jpeg:https://www.forum-juden-christen.de/wp-content/uploads/2025/07/Juedische-Schule.jpg
END:VEVENT
BEGIN:VEVENT
DTSTART;VALUE=DATE:20260211
DTEND;VALUE=DATE:20260212
DTSTAMP:20260422T103016
CREATED:20250707T122303Z
LAST-MODIFIED:20250807T082903Z
UID:97-1770768000-1770854399@www.forum-juden-christen.de
SUMMARY:„Songs From The Holocaust“
DESCRIPTION:Konzert vom Duo NIHZ\n\nDas Nordhorner Duo NIHZ (Bobby Rootveld & Sanna van Elst) wird sein eindrucksvolles Projekt „Songs From The Holocaust“ vorstellen: ein dreisprachiges Buch sowie eine 3-CD-Edition mit 37 Liedern des jüdischen Komponisten Rob Heilbut\, die dieser während des Holocausts in Westerbork\, Bergen-Belsen und dem Amsterdamer Ghetto komponierte.\n\nDem Projekt gingen zehn Jahre intensive Recherche auf vier Kontinenten voraus: 2015 entdeckte das Duo NIHZ originale Notenblätter im Archiv des Konzentrationslagers Westerbork. Es folgten Recherchen\, Funde weiterer Texte und Musikstücke sowie Interviews mit Holocaust-Überlebenden und Angehörigen\, die zur Rekonstruktion von Rob Heilbuts Lebensgeschichte und Musik führten. Die entstandenen Lieder reichen stilistisch von Klassik über Tango bis hin zu Swing-Jazz und Kabarett.\n\nDas daraus entstandene Buch enthält neben der Biografie Heilbuts auch historische Fotos\, Tagebuchauszüge seiner Frau Netty sowie sämtliche Liedtexte und -noten für Akkordeon.\nBobby Rootveld & Sanna van Elst werden mit weiteren Künstlerinnen und Künstlern auftreten.\n\nDie Informationen zu Uhrzeit und Ort werden noch zu gegebener Zeit gesondert veröffentlicht.
URL:https://www.forum-juden-christen.de/event/songs-from-the-holocaust/
LOCATION:Niedersachsen
ATTACH;FMTTYPE=image/jpeg:https://www.forum-juden-christen.de/wp-content/uploads/2025/07/HeilbutPersFotoDEF-scaled.jpg
END:VEVENT
BEGIN:VEVENT
DTSTART;VALUE=DATE:20260127
DTEND;VALUE=DATE:20260128
DTSTAMP:20260422T103016
CREATED:20250707T122143Z
LAST-MODIFIED:20250807T082414Z
UID:95-1769472000-1769558399@www.forum-juden-christen.de
SUMMARY:Gedenkfeier zum Holocaust - Gedenktag
DESCRIPTION:An diesem Tag wird um 19 Uhr eine Konzertveranstaltung stattfinden. Nähere Informationen werden rechtzeitig bekanntgegeben.
URL:https://www.forum-juden-christen.de/event/gedenkfeier-zum-holocaust-gedenktag/
LOCATION:Niedersachsen
END:VEVENT
BEGIN:VEVENT
DTSTART;TZID=Europe/Berlin:20260125T150000
DTEND;TZID=Europe/Berlin:20260125T170000
DTSTAMP:20260422T103016
CREATED:20250707T123032Z
LAST-MODIFIED:20250913T053121Z
UID:113-1769353200-1769360400@www.forum-juden-christen.de
SUMMARY:Tag der offenen Türen und Tore
DESCRIPTION:Lern- und Gedenkort Jüdische Schule\n\nSeit dem Frühjahr 2024 hat das Forum die alte Tradition der Öffnung des Lern- und Gedenkortes Jüdische Schule in Lingen\, Jakob-Wolff-Straße\, mit großem Zuspruch von BesucherInnen wieder aufgenommen.
URL:https://www.forum-juden-christen.de/event/tag-der-offenen-tueren-und-tore-6/
LOCATION:Vortragssaal\, Emslandmuseum\, Burgstraße 28B\, Lingen (Ems)\, Niedersachsen\, 49808\, Germany
ATTACH;FMTTYPE=image/jpeg:https://www.forum-juden-christen.de/wp-content/uploads/2025/07/Juedische-Schule.jpg
END:VEVENT
BEGIN:VEVENT
DTSTART;TZID=Europe/Berlin:20260121T193000
DTEND;TZID=Europe/Berlin:20260121T220000
DTSTAMP:20260422T103016
CREATED:20250707T115254Z
LAST-MODIFIED:20250807T082958Z
UID:83-1769023800-1769032800@www.forum-juden-christen.de
SUMMARY:„Umgang mit der NS-Vergangenheit in Lingen nach 1945“
DESCRIPTION:Lehrhausabend mit Prof. Dr. Dietmar von Reeken\n\nProf. von Reeken beleuchtet in seinem Vortrag\, wie die Lingener Gesellschaft nach dem Ende der nationalsozialistischen Diktatur mit deren Erbe umging. Im Zentrum steht die unmittelbare Nachkriegszeit:\ndie Herausforderungen durch die soziale und ökonomische Krise\, die politischen Umbrüche unter alliierter Besatzung sowie der allmähliche Übergang von der Diktatur zur Demokratie.\n\nDabei wirft der Vortrag einen kritischen Blick auf die Art und Weise\, wie Erinnerung und Verantwortung in der frühen Nachkriegszeit in Lingen (und vergleichbar auch anderswo) verhandelt wurden. Zwar zwang die Entnazifizierung immer wieder zur Auseinandersetzung mit der Vergangenheit – doch häufig geschah dies vor allem im Modus der Rechtfertigung und Abwehr. Die Mitverantwortung für das geschehene Unrecht und das Leid der Opfer blieben meist ausgeblendet.\n\nMit seinem Vortrag liefert Prof. von Reeken nicht nur eine fundierte historische Analyse\, sondern regt auch zur Reflexion über den langen Weg der Aufarbeitung an.
URL:https://www.forum-juden-christen.de/event/umgang-mit-der-ns-vergangenheit-in-lingen-nach-1945/
LOCATION:Emslandmuseum\, Vortragssaal\, Burgstr. 28b\, Lingen\, Niedersachsen\, 49808\, Germany
ATTACH;FMTTYPE=image/jpeg:https://www.forum-juden-christen.de/wp-content/uploads/2025/07/csm_Fk_IV_IfG_Prof._Dr._Dietmar_von_Reeken_Interview_H._Kulbarsch_16-01-24_08_9581a49d48.jpg
END:VEVENT
BEGIN:VEVENT
DTSTART;TZID=Europe/Berlin:20251210T190000
DTEND;TZID=Europe/Berlin:20251210T220000
DTSTAMP:20260422T103016
CREATED:20250707T122426Z
LAST-MODIFIED:20250807T083038Z
UID:99-1765393200-1765404000@www.forum-juden-christen.de
SUMMARY:„A Real Pain“ von Jesse Eisenberg
DESCRIPTION:Einladung zum Filmabend ins Centralkino\n\nDer Film zeigt zwei charakterlich sehr unterschiedliche US-amerikanische Cousins\, einer still\, der andere hibbelig. Beide reisen nach dem Tod ihrer jüdischen Großmutter von New York nach Polen\, um deren Heimatland kennenzulernen. In Warschau schließen sie sich einer Reisegruppe zu den historischen Stätten jüdischen Lebens an und setzen sich mit dem Holocaust auseinander. Dabei bleiben Spannungen und Zerwürfnisse nicht aus. Das mit überschaubarem Budget realisierte Buddy- und Road-Movie ist von realen Personen inspiriert und dramaturgisch mehr an einem humorvoll-nüchternen Bericht als an einer hochdramatischen Abenteuerreise mit lebensverändernden Konsequenzen interessiert.\n\nDas Forum Juden-Christen Altkreis Lingen e.V. und das Centralkino Lingen laden zu einem besonderen Filmabend ein.
URL:https://www.forum-juden-christen.de/event/a-real-pain-von-jesse-eisenberg/
LOCATION:Centralkino Lingen\, Marienstr. 8\, Lingen\, Niedersachsen\, 49808\, Germany
ATTACH;FMTTYPE=image/webp:https://www.forum-juden-christen.de/wp-content/uploads/2025/07/322420.webp
END:VEVENT
BEGIN:VEVENT
DTSTART;TZID=Europe/Berlin:20251130T150000
DTEND;TZID=Europe/Berlin:20251130T170000
DTSTAMP:20260422T103016
CREATED:20250707T122942Z
LAST-MODIFIED:20250913T053127Z
UID:109-1764514800-1764522000@www.forum-juden-christen.de
SUMMARY:Tag der offenen Türen und Tore
DESCRIPTION:Lern- und Gedenkort Jüdische Schule\n\nSeit dem Frühjahr 2024 hat das Forum die alte Tradition der Öffnung des Lern- und Gedenkortes Jüdische Schule in Lingen\, Jakob-Wolff-Straße\, mit großem Zuspruch von BesucherInnen wieder aufgenommen.
URL:https://www.forum-juden-christen.de/event/tag-der-offenen-tueren-und-tore-4/
LOCATION:Vortragssaal\, Emslandmuseum\, Burgstraße 28B\, Lingen (Ems)\, Niedersachsen\, 49808\, Germany
ATTACH;FMTTYPE=image/jpeg:https://www.forum-juden-christen.de/wp-content/uploads/2025/07/Juedische-Schule.jpg
END:VEVENT
BEGIN:VEVENT
DTSTART;TZID=Europe/Berlin:20251119T193000
DTEND;TZID=Europe/Berlin:20251119T220000
DTSTAMP:20260422T103016
CREATED:20250707T114954Z
LAST-MODIFIED:20250807T083124Z
UID:81-1763580600-1763589600@www.forum-juden-christen.de
SUMMARY:Die Erfindung des Antisemitismus
DESCRIPTION:Lehrhausabend mit Dr. Friedhelm Wolski-Prenger\n\nFeindschaft gegen jüdische Menschen ist mindestens so alt wie das Christentum\, das sich von seiner Mutterreligion abgrenzen wollte. Der „moderne Antisemitismus“ (Hannah Arendt) ist jedoch eine Erfindung von deutschen Judenhassern\, die sich im 19. Jahrhundert gegen zumeist assimilierte Jüdinnen und Juden richteten\, die nach der „Emanzipation“ erfolgreich wurden und in Wirtschaft\, Gesellschaft und Kultur aufstiegen.\n\nJüdische Bankiers\, Unternehmer\, Viehhändler\, Ärzte und Juristen\, AutorInnen\, Zeitungsherausgeber und -redakteure oder Abgeordnete riefen Neid von Kreisen hervor\, die glaubten\, solche Positionen seien ihr angestammtes Recht.\n\nSo entstand aus der christlichen Judenfeindschaft der rassistische Antisemitismus\, den die Naziterroristen in der Schoa übersteigerten. Auch heutiger rechtsextremistischer\, islamistischer oder israelbezogener Judenhass greift auf die Antisemiten – die sich selbst stolz so nannten – des 19. Jahrhunderts zurück. Deren Einfluss in „langen Wellen“ wird in Absicht und Wirkung vorgestellt.
URL:https://www.forum-juden-christen.de/event/die-erfindung-des-antisemitismus/
LOCATION:Vortragssaal\, Emslandmuseum\, Burgstraße 28B\, Lingen (Ems)\, Niedersachsen\, 49808\, Germany
ATTACH;FMTTYPE=image/webp:https://www.forum-juden-christen.de/wp-content/uploads/2025/07/wolski-prenger-dr.webp
END:VEVENT
BEGIN:VEVENT
DTSTART;TZID=Europe/Berlin:20251110T101500
DTEND;TZID=Europe/Berlin:20251110T110000
DTSTAMP:20260422T103016
CREATED:20251104T211855Z
LAST-MODIFIED:20251104T211855Z
UID:4750-1762769700-1762772400@www.forum-juden-christen.de
SUMMARY:Gedenkfeier zum Novemberpogrom 1938 in Freren
DESCRIPTION:Die Stadt Freren veranstaltung am Gedenkstein in der Grulandstraße (gegenüber Gedenkort Jüdisches Bethaus) eine Gedenkfeier.
URL:https://www.forum-juden-christen.de/event/gedenkfeier-zum-novemberpogrom-1938-in-freren/
LOCATION:Jüdisches Bethaus\, Grulandstraße 9\, Freren\, Niedersachsen\, 49832\, Germany
END:VEVENT
BEGIN:VEVENT
DTSTART;TZID=Europe/Berlin:20251110T094500
DTEND;TZID=Europe/Berlin:20251110T103000
DTSTAMP:20260422T103016
CREATED:20251104T212533Z
LAST-MODIFIED:20251104T212533Z
UID:4753-1762767900-1762770600@www.forum-juden-christen.de
SUMMARY:Gedenkfeier zum Novemberpogrom 1938 in Lengerich
DESCRIPTION:Die Gedenkfeier zum Novemberpogrom 1938 findet im Bürgerpark am Gedenkstein um 09:45 Uhr statt.
URL:https://www.forum-juden-christen.de/event/gedenkfeier-zum-novemberpogrom-1938-in-lengerich/
LOCATION:Bürgerpark Lengerich\, Graf-Droste-zu-Vischering-Allee\, Lengerich\, Niedersachsen\, 49838\, Germany
END:VEVENT
BEGIN:VEVENT
DTSTART;TZID=Europe/Berlin:20251109T163000
DTEND;TZID=Europe/Berlin:20251109T173000
DTSTAMP:20260422T103016
CREATED:20251104T211451Z
LAST-MODIFIED:20251104T211451Z
UID:4747-1762705800-1762709400@www.forum-juden-christen.de
SUMMARY:Gedenkfeier und Kranzniederlegung in Lingen (Ems)
DESCRIPTION:Die Reichspogromnacht und der Jahrestag der Synagogenzerstörung jähren sich zum 87. Mal. In Zusammenarbeit mit dem Forum Juden-Christen Altkreis Lingen e. V. lädt die Stadt Lingen (Ems) auch in diesem Jahr zu Gedenkveranstaltungen am Sonntag\, 9. November\, ein. Eine Gedenkfeier mit Kranzniederlegung findet anschließend um 16:30 Uhr am Lern- und Gedenkort Jüdische Schule (Jakob-Wolff-Straße) statt.
URL:https://www.forum-juden-christen.de/event/gedenkfeier-und-kranzniederlegung-in-lingen-ems/
LOCATION:Lern- und Gedenkort Jüdische Schule\, Jakob-Wolff-Straße\, Lingen (Ems)\, Niedersachsen\, 49808\, Germany
END:VEVENT
BEGIN:VEVENT
DTSTART;TZID=Europe/Berlin:20251109T150000
DTEND;TZID=Europe/Berlin:20251109T160000
DTSTAMP:20260422T103016
CREATED:20250707T122023Z
LAST-MODIFIED:20250807T082419Z
UID:91-1762700400-1762704000@www.forum-juden-christen.de
SUMMARY:Ökumenischer Gottesdienst
DESCRIPTION:Gedenkfeier zu den Novemberpogromen\n\n15:00 Uhr Ökumenischer Gottesdienst\ngestaltet von der Fachschule St. Franziskus\nin der Ev. Luth. Trinitatiskirchengemeinde\,\nBirkenallee 13a\, 49808 Lingen (Ems)
URL:https://www.forum-juden-christen.de/event/oekumenischer-gottesdienst/
LOCATION:Ev. luth. Trinitatiskirchengemeinde\, Birkenallee 13a\, Lingen\, Niedersachsen\, 49808\, Germany
END:VEVENT
BEGIN:VEVENT
DTSTART;TZID=Europe/Berlin:20251029T190000
DTEND;TZID=Europe/Berlin:20251029T220000
DTSTAMP:20260422T103016
CREATED:20250707T114549Z
LAST-MODIFIED:20250913T053821Z
UID:76-1761764400-1761775200@www.forum-juden-christen.de
SUMMARY:Jüdische Lebensgeschichten in Deutschland
DESCRIPTION:Lesung mit Gerhard Haase-Hindenberg \n„Ich bin noch nie einem Juden begegnet«: Diesen Satz haben die meisten Jüdinnen und Juden schon einmal gehört. Aus Anlass des Jubiläums „1700 Jahre Juden in Deutschland“ erzählt der Schauspieler\nund Spiegel-Bestsellerautor Gerhard Haase-Hindenberg von der Vielfalt jüdischen Lebens in Deutschland. Von Dagmar\, die sich hinter dem Rücken des jüdischen Vaters ausgerechnet für den Polizeidienst\nbewirbt; von Marina\, die aus der ehemaligen UdSSR nach Deutschland gekommen ist und erst hier mit der religiösen Vergangenheit ihrer Familie konfrontiert wird. All diese Geschichten vom Alltag in Deutschland lebender Juden und Jüdinnen\, ihren Geschichten\, Erfahrungen und Hoffnungen sowie die Bedrohungen durch den steigenden Antisemitismus verwebt der Autor mit Erklärungen zu Symbolen\, Glaubenspraxis und Geschichte. \nGerhard Haase-Hindenberg ist ausgebildeter Schauspieler. Daneben arbeitete er viele Jahre als Autor für Fernseh- und Hörfunkformate und als Publizist (u.a. für die Welt/Welt am Sonntag\, Die ZEIT und Tageszeitungen). Seit einigen Jahren ist er Autor der Jüdischen Allgemeinen. \nDiese Veranstaltung findet in Kooperation mit der Volkshochschule Lingen gGmbH statt.
URL:https://www.forum-juden-christen.de/event/juedische-lebensgeschichten-in-deutschland/
LOCATION:Bildungszentrum Gebrüder-Grimm (Raum EG09)\, Elsterstr. 1\, Lingen (Ems)\, 49808\, Germany
ATTACH;FMTTYPE=image/jpeg:https://www.forum-juden-christen.de/wp-content/uploads/2025/07/Haase-Hindenberg-2-scaled.jpg
END:VEVENT
BEGIN:VEVENT
DTSTART;TZID=Europe/Berlin:20251026T150000
DTEND;TZID=Europe/Berlin:20251026T170000
DTSTAMP:20260422T103016
CREATED:20250707T122918Z
LAST-MODIFIED:20250913T053133Z
UID:107-1761490800-1761498000@www.forum-juden-christen.de
SUMMARY:Tag der offenen Türen und Tore
DESCRIPTION:Lern- und Gedenkort Jüdische Schule\n\nSeit dem Frühjahr 2024 hat das Forum die alte Tradition der Öffnung des Lern- und Gedenkortes Jüdische Schule in Lingen\, Jakob-Wolff-Straße\, mit großem Zuspruch von BesucherInnen wieder aufgenommen.
URL:https://www.forum-juden-christen.de/event/tag-der-offenen-tueren-und-tore-3/
LOCATION:Vortragssaal\, Emslandmuseum\, Burgstraße 28B\, Lingen (Ems)\, Niedersachsen\, 49808\, Germany
ATTACH;FMTTYPE=image/jpeg:https://www.forum-juden-christen.de/wp-content/uploads/2025/07/Juedische-Schule.jpg
END:VEVENT
BEGIN:VEVENT
DTSTART;TZID=Europe/Berlin:20251008T170000
DTEND;TZID=Europe/Berlin:20251008T190000
DTSTAMP:20260422T103016
CREATED:20250707T123311Z
LAST-MODIFIED:20250807T082428Z
UID:125-1759942800-1759950000@www.forum-juden-christen.de
SUMMARY:“Places of remembrance in Lingen introduce themselves“ – Führung auf englisch
DESCRIPTION:We from the Forum Juden Christen present the places of remembrance and accompany you through the history and to the stories that have made these places of remembrance possible.
URL:https://www.forum-juden-christen.de/event/places-of-remembrance-in-lingen-introduce-themselves-fuehrung-auf-englisch/
LOCATION:Vortragssaal\, Emslandmuseum\, Burgstraße 28B\, Lingen (Ems)\, Niedersachsen\, 49808\, Germany
END:VEVENT
BEGIN:VEVENT
DTSTART;TZID=Europe/Berlin:20250928T150000
DTEND;TZID=Europe/Berlin:20250928T170000
DTSTAMP:20260422T103016
CREATED:20250707T122855Z
LAST-MODIFIED:20250913T053140Z
UID:105-1759071600-1759078800@www.forum-juden-christen.de
SUMMARY:Tag der offenen Türen und Tore
DESCRIPTION:Lern- und Gedenkort Jüdische Schule\n\nSeit dem Frühjahr 2024 hat das Forum die alte Tradition der Öffnung des Lern- und Gedenkortes Jüdische Schule in Lingen\, Jakob-Wolff-Straße\, mit großem Zuspruch von BesucherInnen wieder aufgenommen.
URL:https://www.forum-juden-christen.de/event/tag-der-offenen-tueren-und-tore-2/
LOCATION:Vortragssaal\, Emslandmuseum\, Burgstraße 28B\, Lingen (Ems)\, Niedersachsen\, 49808\, Germany
ATTACH;FMTTYPE=image/jpeg:https://www.forum-juden-christen.de/wp-content/uploads/2025/07/Juedische-Schule.jpg
END:VEVENT
BEGIN:VEVENT
DTSTART;TZID=Europe/Berlin:20250925T170000
DTEND;TZID=Europe/Berlin:20250925T190000
DTSTAMP:20260422T103016
CREATED:20250707T115647Z
LAST-MODIFIED:20250807T082426Z
UID:89-1758819600-1758826800@www.forum-juden-christen.de
SUMMARY:Führung über den jüdischen Friedhof
DESCRIPTION:Führung um 17:00 Uhr über den jüdischen Friedhof in Lingen (Ems) an der Weidestraße.\nMännliche Besucher werden gebeten\, für den Friedhofsbesuch eine Kopfbedeckung mitzubringen.\nKeine Anmeldung erforderlich\, freier Eintritt
URL:https://www.forum-juden-christen.de/event/fuehrung-ueber-den-juedischen-friedhof/
LOCATION:Jüdischer Friedhof\, Weidestraße 31\, Lingen\, Niedersachsen\, Germany
END:VEVENT
BEGIN:VEVENT
DTSTART;TZID=Europe/Berlin:20250924T193000
DTEND;TZID=Europe/Berlin:20250924T220000
DTSTAMP:20260422T103016
CREATED:20250707T105144Z
LAST-MODIFIED:20250807T083340Z
UID:72-1758742200-1758751200@www.forum-juden-christen.de
SUMMARY:„Nur ein Koffer voller Heimat“
DESCRIPTION:Geschichten über den Kindertransport\nLehrhausabend mit Prof. Dr. Eva-Maria Thüne\n\nDer Kindertransport 1938/39\n\nWas erzählen Menschen\, die als Kinder oder Jugendliche in den 1930er Jahren vor der nationalsozialistischen Verfolgung nach Großbritannien fliehen konnten?\n\nDie Lesung beruht auf Interviews\, die Eva-Maria Thüne\, Professorin für deutsche Sprache und Sprachwissenschaft an der Universität Bologna\, im Jahr 2017 in Großbritannien mit Zeitzeugen geführt hat. Fragen nach dem Sprachwechsel und den Erfahrungen in der neuen Kultur bildeten den Ausgangspunkt. Doch die Antworten gingen weit darüber hinaus: Es sind auch Erinnerungen an die Eltern\, Beschreibungen der dramatischen Reise und Ankunft sowie Lebensberichte unter den Vorzeichen von Trauma und Rettung.\n\nDie Veranstaltung findet in Kooperation mit dem „Internationalen Kulturverein von Frauen für Frauen e.V.“ statt.
URL:https://www.forum-juden-christen.de/event/nur-ein-koffer-voller-heimat/
LOCATION:Emslandmuseum\, Vortragssaal\, Burgstr. 28b\, Lingen\, Niedersachsen\, 49808\, Germany
ATTACH;FMTTYPE=image/webp:https://www.forum-juden-christen.de/wp-content/uploads/2025/07/Eva-Maria-Thune-3f4b88ba.webp
END:VEVENT
BEGIN:VEVENT
DTSTART;VALUE=DATE:20250911
DTEND;VALUE=DATE:20250920
DTSTAMP:20260422T103016
CREATED:20250707T122625Z
LAST-MODIFIED:20250807T083420Z
UID:101-1757548800-1758326399@www.forum-juden-christen.de
SUMMARY:„Man muss Gott mehr gehorchen als dem Menschen“
DESCRIPTION:Ausstellung über den Widerstands-Pfarrer Paul Schneider (1897-1939)\n\nDer „Prediger von B u c h e n w a l d“\, Pfarrer Paul Schneider\, hatte bereits 1933 das Hitler-Regime öffentlich als Gemeindepfarrer kritisiert. Er wurde mehrmals von der Gestapo verhaftet und 1937 in das Konzentrationslager Buchenwald eingeliefert. Dort lehnte er es 1938 beim Fahnenappell zu Hitlers Geburtstag ab\, seine Mütze abzunehmen. Daraufhin wurde er mit Stockschlägen bestraft und in einer Einzelzelle („Bunker“) inhaftiert\, in der er bis zu seinem Tod ununterbrochen verblieb. Eine Predigt aus dem Bunkerfenster an die zum Appell angetretenen Häftlinge führte 1939 schließlich zu seiner Ermordung durch\nden Lagerarzt.\n\n„Den Namen dürft ihr nicht vergessen\, Paul Schneider ist unser erster Märtyrer“ – so die Reaktion des evangelischen Theologen Dietrich Bonhoeffer.\n\nEröffnungsveranstaltung: 11. September 2025\, 18:00 Uhr\, Öffnungszeiten und Rahmenprogramm werden gesondert veröffentlicht.
URL:https://www.forum-juden-christen.de/event/man-muss-gott-mehr-gehorchen-als-dem-menschen/
LOCATION:Kreuzkirche\, Universitätsplatz 1\, Lingen\, Niedersachsen\, 49808\, Germany
ATTACH;FMTTYPE=image/jpeg:https://www.forum-juden-christen.de/wp-content/uploads/2025/07/tafel02.jpg
END:VEVENT
BEGIN:VEVENT
DTSTART;TZID=Europe/Berlin:20250831T150000
DTEND;TZID=Europe/Berlin:20250831T170000
DTSTAMP:20260422T103016
CREATED:20250707T123006Z
LAST-MODIFIED:20250913T053145Z
UID:111-1756652400-1756659600@www.forum-juden-christen.de
SUMMARY:Tag der offenen Türen und Tore
DESCRIPTION:Lern- und Gedenkort Jüdische Schule\n\nSeit dem Frühjahr 2024 hat das Forum die alte Tradition der Öffnung des Lern- und Gedenkortes Jüdische Schule in Lingen\, Jakob-Wolff-Straße\, mit großem Zuspruch von BesucherInnen wieder aufgenommen.
URL:https://www.forum-juden-christen.de/event/tag-der-offenen-tueren-und-tore-5/
LOCATION:Vortragssaal\, Emslandmuseum\, Burgstraße 28B\, Lingen (Ems)\, Niedersachsen\, 49808\, Germany
ATTACH;FMTTYPE=image/jpeg:https://www.forum-juden-christen.de/wp-content/uploads/2025/07/Juedische-Schule.jpg
END:VEVENT
BEGIN:VEVENT
DTSTART;TZID=Europe/Berlin:20250707T163000
DTEND;TZID=Europe/Berlin:20250707T173000
DTSTAMP:20260422T103016
CREATED:20250707T122107Z
LAST-MODIFIED:20250807T082430Z
UID:93-1751905800-1751909400@www.forum-juden-christen.de
SUMMARY:Gedenkfeier und Kranzniederlegung
DESCRIPTION:Gedenkfeier zu den Novemberpogromen\n\nam Lern- und Gedenkort Jüdische Schule\, Jakob-Wolff-Straße\, 49808 Lingen (Ems).
URL:https://www.forum-juden-christen.de/event/gedenkfeier-und-kranzniederlegung/
LOCATION:Vortragssaal\, Emslandmuseum\, Burgstraße 28B\, Lingen (Ems)\, Niedersachsen\, 49808\, Germany
END:VEVENT
END:VCALENDAR