BEGIN:VCALENDAR
VERSION:2.0
PRODID:-//Forum Juden-Christen - ECPv6.15.17.1//NONSGML v1.0//EN
CALSCALE:GREGORIAN
METHOD:PUBLISH
X-WR-CALNAME:Forum Juden-Christen
X-ORIGINAL-URL:https://www.forum-juden-christen.de
X-WR-CALDESC:Veranstaltungen für Forum Juden-Christen
REFRESH-INTERVAL;VALUE=DURATION:PT1H
X-Robots-Tag:noindex
X-PUBLISHED-TTL:PT1H
BEGIN:VTIMEZONE
TZID:Europe/Berlin
BEGIN:DAYLIGHT
TZOFFSETFROM:+0100
TZOFFSETTO:+0200
TZNAME:CEST
DTSTART:20250330T010000
END:DAYLIGHT
BEGIN:STANDARD
TZOFFSETFROM:+0200
TZOFFSETTO:+0100
TZNAME:CET
DTSTART:20251026T010000
END:STANDARD
BEGIN:DAYLIGHT
TZOFFSETFROM:+0100
TZOFFSETTO:+0200
TZNAME:CEST
DTSTART:20260329T010000
END:DAYLIGHT
BEGIN:STANDARD
TZOFFSETFROM:+0200
TZOFFSETTO:+0100
TZNAME:CET
DTSTART:20261025T010000
END:STANDARD
BEGIN:DAYLIGHT
TZOFFSETFROM:+0100
TZOFFSETTO:+0200
TZNAME:CEST
DTSTART:20270328T010000
END:DAYLIGHT
BEGIN:STANDARD
TZOFFSETFROM:+0200
TZOFFSETTO:+0100
TZNAME:CET
DTSTART:20271031T010000
END:STANDARD
END:VTIMEZONE
BEGIN:VEVENT
DTSTART;TZID=Europe/Berlin:20260426T150000
DTEND;TZID=Europe/Berlin:20260426T170000
DTSTAMP:20260420T044530
CREATED:20250707T123143Z
LAST-MODIFIED:20250913T053102Z
UID:119-1777215600-1777222800@www.forum-juden-christen.de
SUMMARY:Tag der offenen Türen und Tore
DESCRIPTION:Lern- und Gedenkort Jüdische Schule\n\nSeit dem Frühjahr 2024 hat das Forum die alte Tradition der Öffnung des Lern- und Gedenkortes Jüdische Schule in Lingen\, Jakob-Wolff-Straße\, mit großem Zuspruch von BesucherInnen wieder aufgenommen.
URL:https://www.forum-juden-christen.de/event/tag-der-offenen-tueren-und-tore-9/
LOCATION:Vortragssaal\, Emslandmuseum\, Burgstraße 28B\, Lingen (Ems)\, Niedersachsen\, 49808\, Germany
ATTACH;FMTTYPE=image/jpeg:https://www.forum-juden-christen.de/wp-content/uploads/2025/07/Juedische-Schule.jpg
END:VEVENT
BEGIN:VEVENT
DTSTART;TZID=Europe/Berlin:20260514T170000
DTEND;TZID=Europe/Berlin:20260514T190000
DTSTAMP:20260420T044530
CREATED:20250707T123355Z
LAST-MODIFIED:20250807T082406Z
UID:127-1778778000-1778785200@www.forum-juden-christen.de
SUMMARY:“Places of remembrance in Lingen introduce themselves“ – Führung auf englisch
DESCRIPTION:We from the Forum Juden Christen present the places of remembrance and accompany you through the history and to the stories that have made these places of remembrance possible.
URL:https://www.forum-juden-christen.de/event/places-of-remembrance-in-lingen-introduce-themselves-fuehrung-auf-englisch-2/
LOCATION:Vortragssaal\, Emslandmuseum\, Burgstraße 28B\, Lingen (Ems)\, Niedersachsen\, 49808\, Germany
END:VEVENT
BEGIN:VEVENT
DTSTART;TZID=Europe/Berlin:20260531T150000
DTEND;TZID=Europe/Berlin:20260531T170000
DTSTAMP:20260420T044530
CREATED:20250707T123206Z
LAST-MODIFIED:20250913T053054Z
UID:121-1780239600-1780246800@www.forum-juden-christen.de
SUMMARY:Tag der offenen Türen und Tore
DESCRIPTION:Lern- und Gedenkort Jüdische Schule\n\nSeit dem Frühjahr 2024 hat das Forum die alte Tradition der Öffnung des Lern- und Gedenkortes Jüdische Schule in Lingen\, Jakob-Wolff-Straße\, mit großem Zuspruch von BesucherInnen wieder aufgenommen.
URL:https://www.forum-juden-christen.de/event/tag-der-offenen-tueren-und-tore-10/
LOCATION:Vortragssaal\, Emslandmuseum\, Burgstraße 28B\, Lingen (Ems)\, Niedersachsen\, 49808\, Germany
ATTACH;FMTTYPE=image/jpeg:https://www.forum-juden-christen.de/wp-content/uploads/2025/07/Juedische-Schule.jpg
END:VEVENT
BEGIN:VEVENT
DTSTART;TZID=Europe/Berlin:20260627T150000
DTEND;TZID=Europe/Berlin:20260627T170000
DTSTAMP:20260420T044530
CREATED:20250707T123231Z
LAST-MODIFIED:20250913T052956Z
UID:123-1782572400-1782579600@www.forum-juden-christen.de
SUMMARY:Tag der offenen Türen und Tore
DESCRIPTION:Lern- und Gedenkort Jüdische Schule\n\nSeit dem Frühjahr 2024 hat das Forum die alte Tradition der Öffnung des Lern- und Gedenkortes Jüdische Schule in Lingen\, Jakob-Wolff-Straße\, mit großem Zuspruch von BesucherInnen wieder aufgenommen.
URL:https://www.forum-juden-christen.de/event/tag-der-offenen-tueren-und-tore-11/
LOCATION:Vortragssaal\, Emslandmuseum\, Burgstraße 28B\, Lingen (Ems)\, Niedersachsen\, 49808\, Germany
ATTACH;FMTTYPE=image/jpeg:https://www.forum-juden-christen.de/wp-content/uploads/2025/07/Juedische-Schule.jpg
END:VEVENT
END:VCALENDAR