BEGIN:VCALENDAR
VERSION:2.0
PRODID:-//Forum Juden-Christen - ECPv6.15.17.1//NONSGML v1.0//EN
CALSCALE:GREGORIAN
METHOD:PUBLISH
X-WR-CALNAME:Forum Juden-Christen
X-ORIGINAL-URL:https://www.forum-juden-christen.de
X-WR-CALDESC:Veranstaltungen für Forum Juden-Christen
REFRESH-INTERVAL;VALUE=DURATION:PT1H
X-Robots-Tag:noindex
X-PUBLISHED-TTL:PT1H
BEGIN:VTIMEZONE
TZID:Europe/Berlin
BEGIN:DAYLIGHT
TZOFFSETFROM:+0100
TZOFFSETTO:+0200
TZNAME:CEST
DTSTART:20240331T010000
END:DAYLIGHT
BEGIN:STANDARD
TZOFFSETFROM:+0200
TZOFFSETTO:+0100
TZNAME:CET
DTSTART:20241027T010000
END:STANDARD
BEGIN:DAYLIGHT
TZOFFSETFROM:+0100
TZOFFSETTO:+0200
TZNAME:CEST
DTSTART:20250330T010000
END:DAYLIGHT
BEGIN:STANDARD
TZOFFSETFROM:+0200
TZOFFSETTO:+0100
TZNAME:CET
DTSTART:20251026T010000
END:STANDARD
BEGIN:DAYLIGHT
TZOFFSETFROM:+0100
TZOFFSETTO:+0200
TZNAME:CEST
DTSTART:20260329T010000
END:DAYLIGHT
BEGIN:STANDARD
TZOFFSETFROM:+0200
TZOFFSETTO:+0100
TZNAME:CET
DTSTART:20261025T010000
END:STANDARD
END:VTIMEZONE
BEGIN:VEVENT
DTSTART;TZID=Europe/Berlin:20251008T170000
DTEND;TZID=Europe/Berlin:20251008T190000
DTSTAMP:20260422T203218
CREATED:20250707T123311Z
LAST-MODIFIED:20250807T082428Z
UID:125-1759942800-1759950000@www.forum-juden-christen.de
SUMMARY:“Places of remembrance in Lingen introduce themselves“ – Führung auf englisch
DESCRIPTION:We from the Forum Juden Christen present the places of remembrance and accompany you through the history and to the stories that have made these places of remembrance possible.
URL:https://www.forum-juden-christen.de/event/places-of-remembrance-in-lingen-introduce-themselves-fuehrung-auf-englisch/
LOCATION:Vortragssaal\, Emslandmuseum\, Burgstraße 28B\, Lingen (Ems)\, Niedersachsen\, 49808\, Germany
END:VEVENT
BEGIN:VEVENT
DTSTART;TZID=Europe/Berlin:20251026T150000
DTEND;TZID=Europe/Berlin:20251026T170000
DTSTAMP:20260422T203218
CREATED:20250707T122918Z
LAST-MODIFIED:20250913T053133Z
UID:107-1761490800-1761498000@www.forum-juden-christen.de
SUMMARY:Tag der offenen Türen und Tore
DESCRIPTION:Lern- und Gedenkort Jüdische Schule\n\nSeit dem Frühjahr 2024 hat das Forum die alte Tradition der Öffnung des Lern- und Gedenkortes Jüdische Schule in Lingen\, Jakob-Wolff-Straße\, mit großem Zuspruch von BesucherInnen wieder aufgenommen.
URL:https://www.forum-juden-christen.de/event/tag-der-offenen-tueren-und-tore-3/
LOCATION:Vortragssaal\, Emslandmuseum\, Burgstraße 28B\, Lingen (Ems)\, Niedersachsen\, 49808\, Germany
ATTACH;FMTTYPE=image/jpeg:https://www.forum-juden-christen.de/wp-content/uploads/2025/07/Juedische-Schule.jpg
END:VEVENT
BEGIN:VEVENT
DTSTART;TZID=Europe/Berlin:20251029T190000
DTEND;TZID=Europe/Berlin:20251029T220000
DTSTAMP:20260422T203218
CREATED:20250707T114549Z
LAST-MODIFIED:20250913T053821Z
UID:76-1761764400-1761775200@www.forum-juden-christen.de
SUMMARY:Jüdische Lebensgeschichten in Deutschland
DESCRIPTION:Lesung mit Gerhard Haase-Hindenberg \n„Ich bin noch nie einem Juden begegnet«: Diesen Satz haben die meisten Jüdinnen und Juden schon einmal gehört. Aus Anlass des Jubiläums „1700 Jahre Juden in Deutschland“ erzählt der Schauspieler\nund Spiegel-Bestsellerautor Gerhard Haase-Hindenberg von der Vielfalt jüdischen Lebens in Deutschland. Von Dagmar\, die sich hinter dem Rücken des jüdischen Vaters ausgerechnet für den Polizeidienst\nbewirbt; von Marina\, die aus der ehemaligen UdSSR nach Deutschland gekommen ist und erst hier mit der religiösen Vergangenheit ihrer Familie konfrontiert wird. All diese Geschichten vom Alltag in Deutschland lebender Juden und Jüdinnen\, ihren Geschichten\, Erfahrungen und Hoffnungen sowie die Bedrohungen durch den steigenden Antisemitismus verwebt der Autor mit Erklärungen zu Symbolen\, Glaubenspraxis und Geschichte. \nGerhard Haase-Hindenberg ist ausgebildeter Schauspieler. Daneben arbeitete er viele Jahre als Autor für Fernseh- und Hörfunkformate und als Publizist (u.a. für die Welt/Welt am Sonntag\, Die ZEIT und Tageszeitungen). Seit einigen Jahren ist er Autor der Jüdischen Allgemeinen. \nDiese Veranstaltung findet in Kooperation mit der Volkshochschule Lingen gGmbH statt.
URL:https://www.forum-juden-christen.de/event/juedische-lebensgeschichten-in-deutschland/
LOCATION:Bildungszentrum Gebrüder-Grimm (Raum EG09)\, Elsterstr. 1\, Lingen (Ems)\, 49808\, Germany
ATTACH;FMTTYPE=image/jpeg:https://www.forum-juden-christen.de/wp-content/uploads/2025/07/Haase-Hindenberg-2-scaled.jpg
END:VEVENT
END:VCALENDAR